BEGIN:VCALENDAR
VERSION:2.0
PRODID:-//JimBarber.com - ECPv6.15.20//NONSGML v1.0//EN
CALSCALE:GREGORIAN
METHOD:PUBLISH
X-WR-CALNAME:JimBarber.com
X-ORIGINAL-URL:http://jimbarber.com
X-WR-CALDESC:Events for JimBarber.com
REFRESH-INTERVAL;VALUE=DURATION:PT1H
X-Robots-Tag:noindex
X-PUBLISHED-TTL:PT1H
BEGIN:VTIMEZONE
TZID:America/Chicago
BEGIN:DAYLIGHT
TZOFFSETFROM:-0600
TZOFFSETTO:-0500
TZNAME:CDT
DTSTART:20250309T080000
END:DAYLIGHT
BEGIN:STANDARD
TZOFFSETFROM:-0500
TZOFFSETTO:-0600
TZNAME:CST
DTSTART:20251102T070000
END:STANDARD
BEGIN:DAYLIGHT
TZOFFSETFROM:-0600
TZOFFSETTO:-0500
TZNAME:CDT
DTSTART:20260308T080000
END:DAYLIGHT
BEGIN:STANDARD
TZOFFSETFROM:-0500
TZOFFSETTO:-0600
TZNAME:CST
DTSTART:20261101T070000
END:STANDARD
BEGIN:DAYLIGHT
TZOFFSETFROM:-0600
TZOFFSETTO:-0500
TZNAME:CDT
DTSTART:20270314T080000
END:DAYLIGHT
BEGIN:STANDARD
TZOFFSETFROM:-0500
TZOFFSETTO:-0600
TZNAME:CST
DTSTART:20271107T070000
END:STANDARD
END:VTIMEZONE
BEGIN:VEVENT
DTSTART;TZID=America/Chicago:20260420T170000
DTEND;TZID=America/Chicago:20260420T170000
DTSTAMP:20260421T174736
CREATED:20260124T185028Z
LAST-MODIFIED:20260127T184035Z
UID:1014-1776704400-1776704400@jimbarber.com
SUMMARY:Branson Comedy Bash Dinner Show | Branson\, MO
DESCRIPTION:Get ready for an unforgettable night of laughter\, mouthwatering food\, and top-tier comedy at the Branson Comedy Bash\, now playing at the Shepherd of the Hills Playhouse Theater! This exciting\, family-friendly dinner show in Branson\, MO\, delivers a perfect blend of side-splitting stand-up\, hilarious sketch comedy\, jaw-dropping magic\, and catchy musical moments that will keep the laughs rolling all night long! \nThe Branson Comedy Bash continues to elevate its star-power with special guest appearances beginning Spring 2026 from world-class performers including improv magician-comedian Christopher James\, known for his quick wit\, audience-driven comedy\, and award-winning magic. Christopher is joining the show for select dates as he embarks on a national tour\, bringing his unpredictable and unforgettable style to the Playhouse Theater. \nAlso joining the lineup on select Spring 2026 performances is legendary comedian and ventriloquist Jim Barber\, recognized as NACA Comedy Entertainer of the Year and featured on major national television programs including the Late Show with David Letterman. Barber brings decades of theater experience and his signature blend of sharp humor and masterful ventriloquism to the show. \nIn addition to these exciting spring additions\, the Branson Comedy Bash features a rotating cast of Branson favorites—talented comedians\, musicians\, magicians\, and specialty performers—each bringing their own flair to this high-energy comedy variety extravaganza. It’s a 90-minute\, fast-paced night of entertainment served with a delicious meal right to your table\, making it the perfect comedy event for families\, groups\, and anyone looking for a great night out! \nDon’t wait—grab your tickets now and brace yourself for big laughs\, surprises\, and unforgettable fun. This is one show you won’t want to miss!
URL:http://jimbarber.com/event/branson-comedy-bash-dinner-show-branson-mo-9/
LOCATION:Playhouse Theatre at Shepherd of the Hills Attraction\, 5585 West 76 Country Blvd\, Branson\, MO\, 65616\, United States
CATEGORIES:Tour Dates
ATTACH;FMTTYPE=image/jpeg:http://jimbarber.com/wp-content/uploads/2026/01/Branson_Comedy_Bash-1200.jpg
END:VEVENT
BEGIN:VEVENT
DTSTART;TZID=America/Chicago:20260417T170000
DTEND;TZID=America/Chicago:20260417T170000
DTSTAMP:20260421T174736
CREATED:20260124T182928Z
LAST-MODIFIED:20260127T184103Z
UID:1012-1776445200-1776445200@jimbarber.com
SUMMARY:Branson Comedy Bash Dinner Show | Branson\, MO
DESCRIPTION:Get ready for an unforgettable night of laughter\, mouthwatering food\, and top-tier comedy at the Branson Comedy Bash\, now playing at the Shepherd of the Hills Playhouse Theater! This exciting\, family-friendly dinner show in Branson\, MO\, delivers a perfect blend of side-splitting stand-up\, hilarious sketch comedy\, jaw-dropping magic\, and catchy musical moments that will keep the laughs rolling all night long! \nThe Branson Comedy Bash continues to elevate its star-power with special guest appearances beginning Spring 2026 from world-class performers including improv magician-comedian Christopher James\, known for his quick wit\, audience-driven comedy\, and award-winning magic. Christopher is joining the show for select dates as he embarks on a national tour\, bringing his unpredictable and unforgettable style to the Playhouse Theater. \nAlso joining the lineup on select Spring 2026 performances is legendary comedian and ventriloquist Jim Barber\, recognized as NACA Comedy Entertainer of the Year and featured on major national television programs including the Late Show with David Letterman. Barber brings decades of theater experience and his signature blend of sharp humor and masterful ventriloquism to the show. \nIn addition to these exciting spring additions\, the Branson Comedy Bash features a rotating cast of Branson favorites—talented comedians\, musicians\, magicians\, and specialty performers—each bringing their own flair to this high-energy comedy variety extravaganza. It’s a 90-minute\, fast-paced night of entertainment served with a delicious meal right to your table\, making it the perfect comedy event for families\, groups\, and anyone looking for a great night out! \nDon’t wait—grab your tickets now and brace yourself for big laughs\, surprises\, and unforgettable fun. This is one show you won’t want to miss!
URL:http://jimbarber.com/event/branson-comedy-bash-dinner-show-branson-mo-8/
LOCATION:Playhouse Theatre at Shepherd of the Hills Attraction\, 5585 West 76 Country Blvd\, Branson\, MO\, 65616\, United States
CATEGORIES:Tour Dates
ATTACH;FMTTYPE=image/jpeg:http://jimbarber.com/wp-content/uploads/2026/01/Branson_Comedy_Bash-1200.jpg
END:VEVENT
BEGIN:VEVENT
DTSTART;TZID=America/Chicago:20260415T170000
DTEND;TZID=America/Chicago:20260415T170000
DTSTAMP:20260421T174736
CREATED:20260124T182814Z
LAST-MODIFIED:20260127T184121Z
UID:1010-1776272400-1776272400@jimbarber.com
SUMMARY:Branson Comedy Bash Dinner Show | Branson\, MO
DESCRIPTION:Get ready for an unforgettable night of laughter\, mouthwatering food\, and top-tier comedy at the Branson Comedy Bash\, now playing at the Shepherd of the Hills Playhouse Theater! This exciting\, family-friendly dinner show in Branson\, MO\, delivers a perfect blend of side-splitting stand-up\, hilarious sketch comedy\, jaw-dropping magic\, and catchy musical moments that will keep the laughs rolling all night long! \nThe Branson Comedy Bash continues to elevate its star-power with special guest appearances beginning Spring 2026 from world-class performers including improv magician-comedian Christopher James\, known for his quick wit\, audience-driven comedy\, and award-winning magic. Christopher is joining the show for select dates as he embarks on a national tour\, bringing his unpredictable and unforgettable style to the Playhouse Theater. \nAlso joining the lineup on select Spring 2026 performances is legendary comedian and ventriloquist Jim Barber\, recognized as NACA Comedy Entertainer of the Year and featured on major national television programs including the Late Show with David Letterman. Barber brings decades of theater experience and his signature blend of sharp humor and masterful ventriloquism to the show. \nIn addition to these exciting spring additions\, the Branson Comedy Bash features a rotating cast of Branson favorites—talented comedians\, musicians\, magicians\, and specialty performers—each bringing their own flair to this high-energy comedy variety extravaganza. It’s a 90-minute\, fast-paced night of entertainment served with a delicious meal right to your table\, making it the perfect comedy event for families\, groups\, and anyone looking for a great night out! \nDon’t wait—grab your tickets now and brace yourself for big laughs\, surprises\, and unforgettable fun. This is one show you won’t want to miss!
URL:http://jimbarber.com/event/branson-comedy-bash-dinner-show-branson-mo-7/
LOCATION:Playhouse Theatre at Shepherd of the Hills Attraction\, 5585 West 76 Country Blvd\, Branson\, MO\, 65616\, United States
CATEGORIES:Tour Dates
ATTACH;FMTTYPE=image/jpeg:http://jimbarber.com/wp-content/uploads/2026/01/Branson_Comedy_Bash-1200.jpg
END:VEVENT
BEGIN:VEVENT
DTSTART;TZID=America/Chicago:20260413T170000
DTEND;TZID=America/Chicago:20260413T170000
DTSTAMP:20260421T174736
CREATED:20260124T182713Z
LAST-MODIFIED:20260127T184138Z
UID:1008-1776099600-1776099600@jimbarber.com
SUMMARY:Branson Comedy Bash Dinner Show | Branson\, MO
DESCRIPTION:Get ready for an unforgettable night of laughter\, mouthwatering food\, and top-tier comedy at the Branson Comedy Bash\, now playing at the Shepherd of the Hills Playhouse Theater! This exciting\, family-friendly dinner show in Branson\, MO\, delivers a perfect blend of side-splitting stand-up\, hilarious sketch comedy\, jaw-dropping magic\, and catchy musical moments that will keep the laughs rolling all night long! \nThe Branson Comedy Bash continues to elevate its star-power with special guest appearances beginning Spring 2026 from world-class performers including improv magician-comedian Christopher James\, known for his quick wit\, audience-driven comedy\, and award-winning magic. Christopher is joining the show for select dates as he embarks on a national tour\, bringing his unpredictable and unforgettable style to the Playhouse Theater. \nAlso joining the lineup on select Spring 2026 performances is legendary comedian and ventriloquist Jim Barber\, recognized as NACA Comedy Entertainer of the Year and featured on major national television programs including the Late Show with David Letterman. Barber brings decades of theater experience and his signature blend of sharp humor and masterful ventriloquism to the show. \nIn addition to these exciting spring additions\, the Branson Comedy Bash features a rotating cast of Branson favorites—talented comedians\, musicians\, magicians\, and specialty performers—each bringing their own flair to this high-energy comedy variety extravaganza. It’s a 90-minute\, fast-paced night of entertainment served with a delicious meal right to your table\, making it the perfect comedy event for families\, groups\, and anyone looking for a great night out! \nDon’t wait—grab your tickets now and brace yourself for big laughs\, surprises\, and unforgettable fun. This is one show you won’t want to miss!
URL:http://jimbarber.com/event/branson-comedy-bash-dinner-show-branson-mo-6/
LOCATION:Playhouse Theatre at Shepherd of the Hills Attraction\, 5585 West 76 Country Blvd\, Branson\, MO\, 65616\, United States
CATEGORIES:Tour Dates
ATTACH;FMTTYPE=image/jpeg:http://jimbarber.com/wp-content/uploads/2026/01/Branson_Comedy_Bash-1200.jpg
END:VEVENT
BEGIN:VEVENT
DTSTART;TZID=America/Chicago:20260410T170000
DTEND;TZID=America/Chicago:20260410T170000
DTSTAMP:20260421T174736
CREATED:20260124T182555Z
LAST-MODIFIED:20260127T184157Z
UID:1006-1775840400-1775840400@jimbarber.com
SUMMARY:Branson Comedy Bash Dinner Show | Branson\, MO
DESCRIPTION:Get ready for an unforgettable night of laughter\, mouthwatering food\, and top-tier comedy at the Branson Comedy Bash\, now playing at the Shepherd of the Hills Playhouse Theater! This exciting\, family-friendly dinner show in Branson\, MO\, delivers a perfect blend of side-splitting stand-up\, hilarious sketch comedy\, jaw-dropping magic\, and catchy musical moments that will keep the laughs rolling all night long! \nThe Branson Comedy Bash continues to elevate its star-power with special guest appearances beginning Spring 2026 from world-class performers including improv magician-comedian Christopher James\, known for his quick wit\, audience-driven comedy\, and award-winning magic. Christopher is joining the show for select dates as he embarks on a national tour\, bringing his unpredictable and unforgettable style to the Playhouse Theater. \nAlso joining the lineup on select Spring 2026 performances is legendary comedian and ventriloquist Jim Barber\, recognized as NACA Comedy Entertainer of the Year and featured on major national television programs including the Late Show with David Letterman. Barber brings decades of theater experience and his signature blend of sharp humor and masterful ventriloquism to the show. \nIn addition to these exciting spring additions\, the Branson Comedy Bash features a rotating cast of Branson favorites—talented comedians\, musicians\, magicians\, and specialty performers—each bringing their own flair to this high-energy comedy variety extravaganza. It’s a 90-minute\, fast-paced night of entertainment served with a delicious meal right to your table\, making it the perfect comedy event for families\, groups\, and anyone looking for a great night out! \nDon’t wait—grab your tickets now and brace yourself for big laughs\, surprises\, and unforgettable fun. This is one show you won’t want to miss!
URL:http://jimbarber.com/event/branson-comedy-bash-dinner-show-branson-mo-5/
LOCATION:Playhouse Theatre at Shepherd of the Hills Attraction\, 5585 West 76 Country Blvd\, Branson\, MO\, 65616\, United States
CATEGORIES:Tour Dates
ATTACH;FMTTYPE=image/jpeg:http://jimbarber.com/wp-content/uploads/2026/01/Branson_Comedy_Bash-1200.jpg
END:VEVENT
BEGIN:VEVENT
DTSTART;TZID=America/Chicago:20260408T170000
DTEND;TZID=America/Chicago:20260408T170000
DTSTAMP:20260421T174736
CREATED:20260124T182421Z
LAST-MODIFIED:20260127T184220Z
UID:1004-1775667600-1775667600@jimbarber.com
SUMMARY:Branson Comedy Bash Dinner Show | Branson\, MO
DESCRIPTION:Get ready for an unforgettable night of laughter\, mouthwatering food\, and top-tier comedy at the Branson Comedy Bash\, now playing at the Shepherd of the Hills Playhouse Theater! This exciting\, family-friendly dinner show in Branson\, MO\, delivers a perfect blend of side-splitting stand-up\, hilarious sketch comedy\, jaw-dropping magic\, and catchy musical moments that will keep the laughs rolling all night long! \nThe Branson Comedy Bash continues to elevate its star-power with special guest appearances beginning Spring 2026 from world-class performers including improv magician-comedian Christopher James\, known for his quick wit\, audience-driven comedy\, and award-winning magic. Christopher is joining the show for select dates as he embarks on a national tour\, bringing his unpredictable and unforgettable style to the Playhouse Theater. \nAlso joining the lineup on select Spring 2026 performances is legendary comedian and ventriloquist Jim Barber\, recognized as NACA Comedy Entertainer of the Year and featured on major national television programs including the Late Show with David Letterman. Barber brings decades of theater experience and his signature blend of sharp humor and masterful ventriloquism to the show. \nIn addition to these exciting spring additions\, the Branson Comedy Bash features a rotating cast of Branson favorites—talented comedians\, musicians\, magicians\, and specialty performers—each bringing their own flair to this high-energy comedy variety extravaganza. It’s a 90-minute\, fast-paced night of entertainment served with a delicious meal right to your table\, making it the perfect comedy event for families\, groups\, and anyone looking for a great night out! \nDon’t wait—grab your tickets now and brace yourself for big laughs\, surprises\, and unforgettable fun. This is one show you won’t want to miss!
URL:http://jimbarber.com/event/branson-comedy-bash-dinner-show-branson-mo-4/
LOCATION:Playhouse Theatre at Shepherd of the Hills Attraction\, 5585 West 76 Country Blvd\, Branson\, MO\, 65616\, United States
CATEGORIES:Tour Dates
ATTACH;FMTTYPE=image/jpeg:http://jimbarber.com/wp-content/uploads/2026/01/Branson_Comedy_Bash-1200.jpg
END:VEVENT
BEGIN:VEVENT
DTSTART;TZID=America/Chicago:20260406T170000
DTEND;TZID=America/Chicago:20260406T170000
DTSTAMP:20260421T174736
CREATED:20260124T182139Z
LAST-MODIFIED:20260127T184238Z
UID:1002-1775494800-1775494800@jimbarber.com
SUMMARY:Branson Comedy Bash Dinner Show | Branson\, MO
DESCRIPTION:Get ready for an unforgettable night of laughter\, mouthwatering food\, and top-tier comedy at the Branson Comedy Bash\, now playing at the Shepherd of the Hills Playhouse Theater! This exciting\, family-friendly dinner show in Branson\, MO\, delivers a perfect blend of side-splitting stand-up\, hilarious sketch comedy\, jaw-dropping magic\, and catchy musical moments that will keep the laughs rolling all night long! \nThe Branson Comedy Bash continues to elevate its star-power with special guest appearances beginning Spring 2026 from world-class performers including improv magician-comedian Christopher James\, known for his quick wit\, audience-driven comedy\, and award-winning magic. Christopher is joining the show for select dates as he embarks on a national tour\, bringing his unpredictable and unforgettable style to the Playhouse Theater. \nAlso joining the lineup on select Spring 2026 performances is legendary comedian and ventriloquist Jim Barber\, recognized as NACA Comedy Entertainer of the Year and featured on major national television programs including the Late Show with David Letterman. Barber brings decades of theater experience and his signature blend of sharp humor and masterful ventriloquism to the show. \nIn addition to these exciting spring additions\, the Branson Comedy Bash features a rotating cast of Branson favorites—talented comedians\, musicians\, magicians\, and specialty performers—each bringing their own flair to this high-energy comedy variety extravaganza. It’s a 90-minute\, fast-paced night of entertainment served with a delicious meal right to your table\, making it the perfect comedy event for families\, groups\, and anyone looking for a great night out! \nDon’t wait—grab your tickets now and brace yourself for big laughs\, surprises\, and unforgettable fun. This is one show you won’t want to miss!
URL:http://jimbarber.com/event/branson-comedy-bash-dinner-show-branson-mo-3/
LOCATION:Playhouse Theatre at Shepherd of the Hills Attraction\, 5585 West 76 Country Blvd\, Branson\, MO\, 65616\, United States
CATEGORIES:Tour Dates
ATTACH;FMTTYPE=image/jpeg:http://jimbarber.com/wp-content/uploads/2026/01/Branson_Comedy_Bash-1200.jpg
END:VEVENT
BEGIN:VEVENT
DTSTART;TZID=America/Chicago:20260403T170000
DTEND;TZID=America/Chicago:20260403T170000
DTSTAMP:20260421T174736
CREATED:20260124T181958Z
LAST-MODIFIED:20260127T184259Z
UID:1000-1775235600-1775235600@jimbarber.com
SUMMARY:Branson Comedy Bash Dinner Show | Branson\, MO
DESCRIPTION:Get ready for an unforgettable night of laughter\, mouthwatering food\, and top-tier comedy at the Branson Comedy Bash\, now playing at the Shepherd of the Hills Playhouse Theater! This exciting\, family-friendly dinner show in Branson\, MO\, delivers a perfect blend of side-splitting stand-up\, hilarious sketch comedy\, jaw-dropping magic\, and catchy musical moments that will keep the laughs rolling all night long! \nThe Branson Comedy Bash continues to elevate its star-power with special guest appearances beginning Spring 2026 from world-class performers including improv magician-comedian Christopher James\, known for his quick wit\, audience-driven comedy\, and award-winning magic. Christopher is joining the show for select dates as he embarks on a national tour\, bringing his unpredictable and unforgettable style to the Playhouse Theater. \nAlso joining the lineup on select Spring 2026 performances is legendary comedian and ventriloquist Jim Barber\, recognized as NACA Comedy Entertainer of the Year and featured on major national television programs including the Late Show with David Letterman. Barber brings decades of theater experience and his signature blend of sharp humor and masterful ventriloquism to the show. \nIn addition to these exciting spring additions\, the Branson Comedy Bash features a rotating cast of Branson favorites—talented comedians\, musicians\, magicians\, and specialty performers—each bringing their own flair to this high-energy comedy variety extravaganza. It’s a 90-minute\, fast-paced night of entertainment served with a delicious meal right to your table\, making it the perfect comedy event for families\, groups\, and anyone looking for a great night out! \nDon’t wait—grab your tickets now and brace yourself for big laughs\, surprises\, and unforgettable fun. This is one show you won’t want to miss!
URL:http://jimbarber.com/event/branson-comedy-bash-dinner-show-branson-mo-2/
LOCATION:Playhouse Theatre at Shepherd of the Hills Attraction\, 5585 West 76 Country Blvd\, Branson\, MO\, 65616\, United States
CATEGORIES:Tour Dates
ATTACH;FMTTYPE=image/jpeg:http://jimbarber.com/wp-content/uploads/2026/01/Branson_Comedy_Bash-1200.jpg
END:VEVENT
BEGIN:VEVENT
DTSTART;TZID=America/Chicago:20260401T170000
DTEND;TZID=America/Chicago:20260401T170000
DTSTAMP:20260421T174736
CREATED:20260124T181726Z
LAST-MODIFIED:20260127T184322Z
UID:996-1775062800-1775062800@jimbarber.com
SUMMARY:Branson Comedy Bash Dinner Show | Branson\, MO
DESCRIPTION:Get ready for an unforgettable night of laughter\, mouthwatering food\, and top-tier comedy at the Branson Comedy Bash\, now playing at the Shepherd of the Hills Playhouse Theater! This exciting\, family-friendly dinner show in Branson\, MO\, delivers a perfect blend of side-splitting stand-up\, hilarious sketch comedy\, jaw-dropping magic\, and catchy musical moments that will keep the laughs rolling all night long! \nThe Branson Comedy Bash continues to elevate its star-power with special guest appearances beginning Spring 2026 from world-class performers including improv magician-comedian Christopher James\, known for his quick wit\, audience-driven comedy\, and award-winning magic. Christopher is joining the show for select dates as he embarks on a national tour\, bringing his unpredictable and unforgettable style to the Playhouse Theater. \nAlso joining the lineup on select Spring 2026 performances is legendary comedian and ventriloquist Jim Barber\, recognized as NACA Comedy Entertainer of the Year and featured on major national television programs including the Late Show with David Letterman. Barber brings decades of theater experience and his signature blend of sharp humor and masterful ventriloquism to the show. \nIn addition to these exciting spring additions\, the Branson Comedy Bash features a rotating cast of Branson favorites—talented comedians\, musicians\, magicians\, and specialty performers—each bringing their own flair to this high-energy comedy variety extravaganza. It’s a 90-minute\, fast-paced night of entertainment served with a delicious meal right to your table\, making it the perfect comedy event for families\, groups\, and anyone looking for a great night out! \nDon’t wait—grab your tickets now and brace yourself for big laughs\, surprises\, and unforgettable fun. This is one show you won’t want to miss!
URL:http://jimbarber.com/event/branson-comedy-bash-dinner-show-branson-mo/
LOCATION:Playhouse Theatre at Shepherd of the Hills Attraction\, 5585 West 76 Country Blvd\, Branson\, MO\, 65616\, United States
CATEGORIES:Tour Dates
ATTACH;FMTTYPE=image/jpeg:http://jimbarber.com/wp-content/uploads/2026/01/Branson_Comedy_Bash-1200.jpg
END:VEVENT
BEGIN:VEVENT
DTSTART;TZID=America/Chicago:20260328T173000
DTEND;TZID=America/Chicago:20260328T220000
DTSTAMP:20260421T174736
CREATED:20260128T173444Z
LAST-MODIFIED:20260128T173444Z
UID:1147-1774719000-1774735200@jimbarber.com
SUMMARY:Junior Auxiliary Trivia Night | Branson\, MO
DESCRIPTION:“Saddle Up and Put Your Boots On” Trivia Night presented by Junior Auxiliary of Taney County to be held on Saturday\, March 28\, 2026 at Thousand Hills Resort Hotel\, 5:30 – 10:00 pm. \nMaster of Ceremonies: Jim Barber \nRSVP by March 18\, 2026. Online Silent Auction\, Dinner\, and Trivia Game and more.\nReserve your table by calling or texting Marcia Vander Laan at 417-337-2352
URL:http://jimbarber.com/event/junior-auxiliary-trivia-night-branson-mo/
LOCATION:Thousand Hills Resort Hotel\, 120 Wildwood Dr S\, Branson\, MO\, 65616\, United States
CATEGORIES:Tour Dates
ATTACH;FMTTYPE=image/jpeg:http://jimbarber.com/wp-content/uploads/2026/01/Trivia_Challenge_2026-1200.jpg
ORGANIZER;CN="Junior Auxiliary of Taney County":MAILTO:jatcmo@gmail.com
END:VEVENT
END:VCALENDAR